BEGIN:VCALENDAR
VERSION:2.0
PRODID:icalendar-ruby
CALSCALE:GREGORIAN
METHOD:PUBLISH
BEGIN:VEVENT
DTSTAMP:20260424T140031Z
UID:68-530269@riversidechurchjc.org
DTSTART:20261011T121500Z
DTEND:20261011T130000Z
CLASS:PUBLIC
CREATED:20260424T071017
DESCRIPTION:
LAST-MODIFIED:20260424T071017
LOCATION:Riverside Church
SUMMARY:Sunday Morning Prayer
URL;VALUE=URI:https://www.riversidechurchjc.org/events/sunday-morning-praye
 r/2026-10-11
ATTACH;FILENAME=SUNDAY AM PRAYER.png;FMTTYPE=image/png:https://dq5pwpg1q8ru
 0.cloudfront.net/2023/05/24/07/59/06/d9ed5a0b-d9fb-4f97-b3ec-5c6ef31b0be7/
 SUNDAY%20AM%20PRAYER.png
END:VEVENT
END:VCALENDAR
