BEGIN:VCALENDAR
VERSION:2.0
PRODID:icalendar-ruby
CALSCALE:GREGORIAN
METHOD:PUBLISH
BEGIN:VEVENT
DTSTAMP:20260424T160620Z
UID:68-530657@riversidechurchjc.org
DTSTART:20261018T121500Z
DTEND:20261018T130000Z
CLASS:PUBLIC
CREATED:20260424T100418
DESCRIPTION:
LAST-MODIFIED:20260424T100418
LOCATION:Riverside Church
SUMMARY:Sunday Morning Prayer
URL;VALUE=URI:https://www.riversidechurchjc.org/events/sunday-morning-praye
 r/2026-10-18
ATTACH;FILENAME=SUNDAY AM PRAYER.png;FMTTYPE=image/png:https://dq5pwpg1q8ru
 0.cloudfront.net/2023/05/24/07/59/06/d9ed5a0b-d9fb-4f97-b3ec-5c6ef31b0be7/
 SUNDAY%20AM%20PRAYER.png
END:VEVENT
END:VCALENDAR
